BEGIN:VCALENDAR
VERSION:2.0
PRODID:-//Squarespace Inc/Squarespace 6//v6//EN
BEGIN:VEVENT
UID:5b50247303ce6465a202e72a@squarespace.com
DTSTAMP:20180724T013016Z
DTSTART:20180815T083000Z
DTEND:20180815T133000Z
SUMMARY:Wednesday Night Poker
END:VEVENT
END:VCALENDAR
