BEGIN:VCALENDAR
VERSION:2.0
PRODID:-//Squarespace Inc/Squarespace 6//v6//EN
BEGIN:VEVENT
UID:5b50245a0e2e72f3e4c8a6e9@squarespace.com
DTSTAMP:20180724T012838Z
DTSTART:20180808T083000Z
DTEND:20180808T133000Z
SUMMARY:Wednesday Night Poker
END:VEVENT
END:VCALENDAR
