BEGIN:VCALENDAR
VERSION:2.0
PRODID:-//Squarespace Inc/Squarespace 6//v6//EN
BEGIN:VEVENT
UID:5b501bfe1ae6cfa99e5fbbd6@squarespace.com
DTSTAMP:20180724T011317Z
DTSTART:20180725T083000Z
DTEND:20180725T133000Z
SUMMARY:Wednesday Night Poker
END:VEVENT
END:VCALENDAR
