BEGIN:VCALENDAR
VERSION:2.0
PRODID:-//Squarespace Inc/Squarespace 6//v6//EN
BEGIN:VEVENT
UID:5e0eb335d1d8651e288a3776@squarespace.com
DTSTAMP:20200103T032137Z
DTSTART:20200126T013000Z
DTEND:20200126T033000Z
SUMMARY:Sunday Meat Raffle
GEO:-31.959477;141.465522
LOCATION:Broken Hill Musicians Club\, 276 Crystal Street\, Broken Hill\, Au
 stralia
END:VEVENT
END:VCALENDAR
