BEGIN:VCALENDAR
VERSION:2.0
PRODID:-//Squarespace Inc/Squarespace 6//v6//EN
BEGIN:VEVENT
UID:5e0eb30d98b8e47e1bb767fd@squarespace.com
DTSTAMP:20200103T032101Z
DTSTART:20200112T013000Z
DTEND:20200112T033000Z
SUMMARY:Sunday Meat Raffle
GEO:-31.959477;141.465522
LOCATION:Broken Hill Musicians Club\, 276 Crystal Street\, Broken Hill\, Au
 stralia
END:VEVENT
END:VCALENDAR
