BEGIN:VCALENDAR
VERSION:2.0
PRODID:-//Squarespace Inc/Squarespace 6//v6//EN
BEGIN:VEVENT
UID:5b5022a8562fa77892910e52@squarespace.com
DTSTAMP:20180724T014541Z
DTSTART:20180826T023000Z
DTEND:20180826T043000Z
SUMMARY:Sunday Meat Raffle
END:VEVENT
END:VCALENDAR
