BEGIN:VCALENDAR
VERSION:2.0
PRODID:-//Squarespace Inc/Squarespace 6//v6//EN
BEGIN:VEVENT
UID:5b50226f562fa778929108d1@squarespace.com
DTSTAMP:20180724T012701Z
DTSTART:20180805T023000Z
DTEND:20180805T043000Z
SUMMARY:Sunday Meat Raffle
END:VEVENT
END:VCALENDAR
