BEGIN:VCALENDAR
VERSION:2.0
PRODID:-//Squarespace Inc/Squarespace 6//v6//EN
BEGIN:VEVENT
UID:5b50225c70a6ad94de3f46e4@squarespace.com
DTSTAMP:20180724T012437Z
DTSTART:20180729T023000Z
DTEND:20180729T043000Z
SUMMARY:Sunday Meat Raffle
END:VEVENT
END:VCALENDAR
