BEGIN:VCALENDAR
VERSION:2.0
PRODID:-//Squarespace Inc/Squarespace 6//v6//EN
BEGIN:VEVENT
UID:5b502297aa4a99a4f729e082@squarespace.com
DTSTAMP:20180724T013105Z
DTSTART:20180819T023000Z
DTEND:20180819T043000Z
SUMMARY:Sunday Meat Raffle
END:VEVENT
END:VCALENDAR
