BEGIN:VCALENDAR
VERSION:2.0
PRODID:-//Squarespace Inc/Squarespace 6//v6//EN
BEGIN:VEVENT
UID:5b5023226d2a7351621c6b13@squarespace.com
DTSTAMP:20180724T014554Z
DTSTART:20180826T083000Z
DTEND:20180826T123000Z
SUMMARY:Sunday Night Poker
END:VEVENT
END:VCALENDAR
