BEGIN:VCALENDAR
VERSION:2.0
PRODID:-//Squarespace Inc/Squarespace 6//v6//EN
BEGIN:VEVENT
UID:5b5022c48a922dd648d51f52@squarespace.com
DTSTAMP:20180724T012452Z
DTSTART:20180729T083000Z
DTEND:20180729T123000Z
SUMMARY:Sunday Night Poker
END:VEVENT
END:VCALENDAR
