BEGIN:VCALENDAR
VERSION:2.0
PRODID:-//Squarespace Inc/Squarespace 6//v6//EN
BEGIN:VEVENT
UID:5b5022e81ae6cfa99e606bb3@squarespace.com
DTSTAMP:20180724T012929Z
DTSTART:20180812T083000Z
DTEND:20180812T123000Z
SUMMARY:Sunday Night Poker
END:VEVENT
END:VCALENDAR
