BEGIN:VCALENDAR
VERSION:2.0
PRODID:-//Squarespace Inc/Squarespace 6//v6//EN
BEGIN:VEVENT
UID:5b5022d570a6ad94de3f5264@squarespace.com
DTSTAMP:20180724T012715Z
DTSTART:20180805T083000Z
DTEND:20180805T123000Z
SUMMARY:Sunday Night Poker
END:VEVENT
END:VCALENDAR
