BEGIN:VCALENDAR
VERSION:2.0
PRODID:-//Squarespace Inc/Squarespace 6//v6//EN
BEGIN:VEVENT
UID:5b50230b575d1fc08babdc81@squarespace.com
DTSTAMP:20180724T013124Z
DTSTART:20180819T083000Z
DTEND:20180819T123000Z
SUMMARY:Sunday Night Poker
END:VEVENT
END:VCALENDAR
