BEGIN:VCALENDAR
VERSION:2.0
PRODID:-//Squarespace Inc/Squarespace 6//v6//EN
BEGIN:VEVENT
UID:5b501e44f950b763cde797fb@squarespace.com
DTSTAMP:20180724T014942Z
DTSTART:20180722T083000Z
DTEND:20180722T123000Z
SUMMARY:Sunday Night Poker
END:VEVENT
END:VCALENDAR
