BEGIN:VCALENDAR
VERSION:2.0
PRODID:-//Squarespace Inc/Squarespace 6//v6//EN
BEGIN:VEVENT
UID:5b5023aa6d2a7351621c7969@squarespace.com
DTSTAMP:20180724T014611Z
DTSTART:20180827T083000Z
DTEND:20180827T133000Z
SUMMARY:Monday Night Poker
END:VEVENT
END:VCALENDAR
