BEGIN:VCALENDAR
VERSION:2.0
PRODID:-//Squarespace Inc/Squarespace 6//v6//EN
BEGIN:VEVENT
UID:5b50236688251b6ef157c80f@squarespace.com
DTSTAMP:20180724T012733Z
DTSTART:20180806T083000Z
DTEND:20180806T133000Z
SUMMARY:Monday Night Poker
END:VEVENT
END:VCALENDAR
