BEGIN:VCALENDAR
VERSION:2.0
PRODID:-//Squarespace Inc/Squarespace 6//v6//EN
BEGIN:VEVENT
UID:5b50237b1ae6cfa99e607d3c@squarespace.com
DTSTAMP:20180724T012943Z
DTSTART:20180813T083000Z
DTEND:20180813T133000Z
SUMMARY:Monday Night Poker
END:VEVENT
END:VCALENDAR
