BEGIN:VCALENDAR
VERSION:2.0
PRODID:-//Squarespace Inc/Squarespace 6//v6//EN
BEGIN:VEVENT
UID:5b50239070a6ad94de3f674b@squarespace.com
DTSTAMP:20180724T013138Z
DTSTART:20180820T083000Z
DTEND:20180820T133000Z
SUMMARY:Monday Night Poker
END:VEVENT
END:VCALENDAR
