BEGIN:VCALENDAR
VERSION:2.0
PRODID:-//Squarespace Inc/Squarespace 6//v6//EN
BEGIN:VEVENT
UID:5b5023422b6a2853e2c6ce2c@squarespace.com
DTSTAMP:20180724T012506Z
DTSTART:20180730T083000Z
DTEND:20180730T133000Z
SUMMARY:Monday Night Poker
END:VEVENT
END:VCALENDAR
