BEGIN:VCALENDAR
VERSION:2.0
PRODID:-//Squarespace Inc/Squarespace 6//v6//EN
BEGIN:VEVENT
UID:5b501a7d03ce6465a201db63@squarespace.com
DTSTAMP:20180724T011239Z
DTSTART:20180723T083000Z
DTEND:20180723T133000Z
SUMMARY:Monday Night Poker
END:VEVENT
END:VCALENDAR
