BEGIN:VCALENDAR
VERSION:2.0
PRODID:-//Squarespace Inc/Squarespace 6//v6//EN
BEGIN:VEVENT
UID:5c0727fbaa4a99670181e349@squarespace.com
DTSTAMP:20181205T012112Z
DTSTART:20181212T070000Z
DTEND:20181212T090000Z
SUMMARY:Wednesday Night Xmas Meat Draw
GEO:-31.959477;141.465522
LOCATION:The Broken Hill Musicians Club\, 276 Crystal Street\, Broken Hill 
 NSW 2880\, Australia
END:VEVENT
END:VCALENDAR
