BEGIN:VCALENDAR
VERSION:2.0
PRODID:-//Squarespace Inc/Squarespace 6//v6//EN
BEGIN:VEVENT
UID:5e0eb4e1d7c3d1363d10d0d7@squarespace.com
DTSTAMP:20200103T032842Z
DTSTART:20200122T070000Z
DTEND:20200122T090000Z
SUMMARY:Wednesday Night Meat Draw
GEO:-31.959477;141.465522
LOCATION:Broken Hill Musicians Club\, 276 Crystal Street\, Broken Hill\, Au
 stralia
END:VEVENT
END:VCALENDAR
