BEGIN:VCALENDAR
VERSION:2.0
PRODID:-//Squarespace Inc/Squarespace 6//v6//EN
BEGIN:VEVENT
UID:5e0eb4f1b798ea3c9a321b44@squarespace.com
DTSTAMP:20200103T032857Z
DTSTART:20200129T070000Z
DTEND:20200129T090000Z
SUMMARY:Wednesday Night Meat Draw
GEO:-31.959477;141.465522
LOCATION:Broken Hill Musicians Club\, 276 Crystal Street\, Broken Hill\, Au
 stralia
END:VEVENT
END:VCALENDAR
