BEGIN:VCALENDAR
VERSION:2.0
PRODID:-//Squarespace Inc/Squarespace 6//v6//EN
BEGIN:VEVENT
UID:5b502430575d1fc08bac0101@squarespace.com
DTSTAMP:20190107T013104Z
DTSTART:20190109T070000Z
DTEND:20190109T090000Z
SUMMARY:Wednesday Night Meat Draw
END:VEVENT
END:VCALENDAR
