BEGIN:VCALENDAR
VERSION:2.0
PRODID:-//Squarespace Inc/Squarespace 6//v6//EN
BEGIN:VEVENT
UID:5b5024070e2e72f3e4c89c1d@squarespace.com
DTSTAMP:20180724T013151Z
DTSTART:20180822T073000Z
DTEND:20180822T093000Z
SUMMARY:Wednesday Night Meat Draw
END:VEVENT
END:VCALENDAR
