BEGIN:VCALENDAR
VERSION:2.0
PRODID:-//Squarespace Inc/Squarespace 6//v6//EN
BEGIN:VEVENT
UID:5b5023c170a6ad94de3f6de6@squarespace.com
DTSTAMP:20180724T012524Z
DTSTART:20180801T080000Z
DTEND:20180801T100000Z
SUMMARY:Wednesday Night Meat Draw
END:VEVENT
END:VCALENDAR
