BEGIN:VCALENDAR
VERSION:2.0
PRODID:-//Squarespace Inc/Squarespace 6//v6//EN
BEGIN:VEVENT
UID:5b5023da575d1fc08babf579@squarespace.com
DTSTAMP:20180724T012807Z
DTSTART:20180808T073000Z
DTEND:20180808T093000Z
SUMMARY:Wednesday Night Meat Draw
END:VEVENT
END:VCALENDAR
