BEGIN:VCALENDAR
VERSION:2.0
PRODID:-//Squarespace Inc/Squarespace 6//v6//EN
BEGIN:VEVENT
UID:5b5023f5758d46506ecff515@squarespace.com
DTSTAMP:20180724T012957Z
DTSTART:20180815T073000Z
DTEND:20180815T093000Z
SUMMARY:Wednesday Night Meat Draw
END:VEVENT
END:VCALENDAR
