BEGIN:VCALENDAR
VERSION:2.0
PRODID:-//Squarespace Inc/Squarespace 6//v6//EN
BEGIN:VEVENT
UID:5b501b5670a6ad94de3e95d2@squarespace.com
DTSTAMP:20180724T011259Z
DTSTART:20180725T080000Z
DTEND:20180725T100000Z
SUMMARY:Wednesday Night Meat Draw
END:VEVENT
END:VCALENDAR
