BEGIN:VCALENDAR
VERSION:2.0
PRODID:-//Squarespace Inc/Squarespace 6//v6//EN
BEGIN:VEVENT
UID:5e0eb432a9a994607beac8af@squarespace.com
DTSTAMP:20200103T032548Z
DTSTART:20200201T073000Z
DTEND:20200201T100000Z
SUMMARY:Muso's Super Schnitty Nite
GEO:-31.959477;141.465522
LOCATION:Broken Hill Musicians Club\, 276 Crystal Street\, Broken Hill\, Au
 stralia
END:VEVENT
END:VCALENDAR
