BEGIN:VCALENDAR
VERSION:2.0
PRODID:-//Squarespace Inc/Squarespace 6//v6//EN
BEGIN:VEVENT
UID:5e0eb3d2a7a1d87c716cc2e1@squarespace.com
DTSTAMP:20200103T032448Z
DTSTART:20200111T073000Z
DTEND:20200111T095959Z
SUMMARY:Muso's Super Schnitty Nite
GEO:-31.959477;141.465522
LOCATION:Broken Hill Musicians Club\, 276 Crystal Street\, Broken Hill\, Au
 stralia
END:VEVENT
END:VCALENDAR
